BEGIN:VCALENDAR
VERSION:2.0
PRODID:-//WNY PRISM - ECPv6.15.12.2//NONSGML v1.0//EN
CALSCALE:GREGORIAN
METHOD:PUBLISH
X-WR-CALNAME:WNY PRISM
X-ORIGINAL-URL:https://www.wnyprism.org
X-WR-CALDESC:Events for WNY PRISM
REFRESH-INTERVAL;VALUE=DURATION:PT1H
X-Robots-Tag:noindex
X-PUBLISHED-TTL:PT1H
BEGIN:VTIMEZONE
TZID:America/New_York
BEGIN:DAYLIGHT
TZOFFSETFROM:-0500
TZOFFSETTO:-0400
TZNAME:EDT
DTSTART:20250309T070000
END:DAYLIGHT
BEGIN:STANDARD
TZOFFSETFROM:-0400
TZOFFSETTO:-0500
TZNAME:EST
DTSTART:20251102T060000
END:STANDARD
BEGIN:DAYLIGHT
TZOFFSETFROM:-0500
TZOFFSETTO:-0400
TZNAME:EDT
DTSTART:20260308T070000
END:DAYLIGHT
BEGIN:STANDARD
TZOFFSETFROM:-0400
TZOFFSETTO:-0500
TZNAME:EST
DTSTART:20261101T060000
END:STANDARD
BEGIN:DAYLIGHT
TZOFFSETFROM:-0500
TZOFFSETTO:-0400
TZNAME:EDT
DTSTART:20270314T070000
END:DAYLIGHT
BEGIN:STANDARD
TZOFFSETFROM:-0400
TZOFFSETTO:-0500
TZNAME:EST
DTSTART:20271107T060000
END:STANDARD
END:VTIMEZONE
BEGIN:VEVENT
DTSTART;TZID=America/New_York:20260305T120000
DTEND;TZID=America/New_York:20260305T130000
DTSTAMP:20260420T153741
CREATED:20260123T155641Z
LAST-MODIFIED:20260123T155711Z
UID:10000631-1772712000-1772715600@www.wnyprism.org
SUMMARY:Urban Forestry Today Webcast
DESCRIPTION:Growth & Loss – Understanding Resident Perspectives on Urban Trees \nwith Candace Powning\, M.S. \nUrban residents often desire and identify closely with trees in the municipal landscape. Join Candace B. Powning\, City of Hartford\, as she discusses new research about understanding the effects of sudden tree canopy loss (and regrowth!) in the urban environment. \nTo attend live (& receive an ISA/MCA CEU) click here or visit www.joinwebinar.com & enter 295-000-331. \nNote: ​Space will be limited – all attendees should be prepared to join the live broadcast promptly.
URL:https://www.wnyprism.org/event/urban-forestry-today-webcast-2/
LOCATION:
END:VEVENT
BEGIN:VEVENT
DTSTART;TZID=America/New_York:20260205T120000
DTEND;TZID=America/New_York:20260205T130000
DTSTAMP:20260420T153741
CREATED:20260123T155256Z
LAST-MODIFIED:20260123T155256Z
UID:10000630-1770292800-1770296400@www.wnyprism.org
SUMMARY:Urban Forestry Today Webcast
DESCRIPTION:Tree Committees & Urban Forestry – Making Collaboration Work \nwith Danica Doroski\, PhD \nTree committees are a common platform for volunteers and professionals to share expertise and guidance on local urban forest management. Join Connecticut’s Urban Forestry Coordinator\, Dr. Danica Doroski\, as she draws from research and practice to inform these important collaborations.  \nPre-register or join the free broadcast live (& receive an ISA/MCA CEU) by clicking here or by visiting www.joinwebinar.com & entering: 719-727-803.  \nNote: Space is limited – attendees that wish to catch live broadcasts should join promptly at 12 PM ET. Post-broadcast recordings are available in ‘webcast archives’ at www.urbanforestrytoday.org.
URL:https://www.wnyprism.org/event/urban-forestry-today-webcast/
LOCATION:
END:VEVENT
END:VCALENDAR