BEGIN:VCALENDAR
VERSION:2.0
PRODID:-//WNY PRISM - ECPv6.15.12.2//NONSGML v1.0//EN
CALSCALE:GREGORIAN
METHOD:PUBLISH
X-ORIGINAL-URL:https://www.wnyprism.org
X-WR-CALDESC:Events for WNY PRISM
REFRESH-INTERVAL;VALUE=DURATION:PT1H
X-Robots-Tag:noindex
X-PUBLISHED-TTL:PT1H
BEGIN:VTIMEZONE
TZID:America/New_York
BEGIN:DAYLIGHT
TZOFFSETFROM:-0500
TZOFFSETTO:-0400
TZNAME:EDT
DTSTART:20240310T070000
END:DAYLIGHT
BEGIN:STANDARD
TZOFFSETFROM:-0400
TZOFFSETTO:-0500
TZNAME:EST
DTSTART:20241103T060000
END:STANDARD
BEGIN:DAYLIGHT
TZOFFSETFROM:-0500
TZOFFSETTO:-0400
TZNAME:EDT
DTSTART:20250309T070000
END:DAYLIGHT
BEGIN:STANDARD
TZOFFSETFROM:-0400
TZOFFSETTO:-0500
TZNAME:EST
DTSTART:20251102T060000
END:STANDARD
BEGIN:DAYLIGHT
TZOFFSETFROM:-0500
TZOFFSETTO:-0400
TZNAME:EDT
DTSTART:20260308T070000
END:DAYLIGHT
BEGIN:STANDARD
TZOFFSETFROM:-0400
TZOFFSETTO:-0500
TZNAME:EST
DTSTART:20261101T060000
END:STANDARD
BEGIN:DAYLIGHT
TZOFFSETFROM:-0500
TZOFFSETTO:-0400
TZNAME:EDT
DTSTART:20270314T070000
END:DAYLIGHT
BEGIN:STANDARD
TZOFFSETFROM:-0400
TZOFFSETTO:-0500
TZNAME:EST
DTSTART:20271107T060000
END:STANDARD
END:VTIMEZONE
BEGIN:VEVENT
DTSTART;TZID=America/New_York:20260107T190000
DTEND;TZID=America/New_York:20260107T203000
DTSTAMP:20260422T065028
CREATED:20251112T165121Z
LAST-MODIFIED:20251112T165121Z
UID:10000561-1767812400-1767817800@www.wnyprism.org
SUMMARY:Conservation Conversations - Turning Gray to Green
DESCRIPTION:Turning Gray to Green: Post-Industrial Restoration and Urban Ecological Connectivity in Buffalo\, NY\nFeaturing Nicholas Henshue\, M.S. Ph.D.\, Associate Professor of Ecology in UB’s Department of Environment and Sustainability\, and SUNY Sustainability Fellow. \nThe Buffalo Niagara River Land Trust (BNRLT) Speaker Series brings together the community and experts to explore how we can reclaim and restore Western New York’s waterfronts. \nThrough these conversations\, the BNRLT highlights their mission to clean\, protect\, and keep these places in trust—ensuring public access\, environmental health\, and community pride for generations to come. \nPlease register here.
URL:https://www.wnyprism.org/event/conservation-conversations-turning-gray-to-green/
LOCATION:Black Rock Harbor Center\, 52 Amherst Street\, Buffalo\, NY\, 14207
ORGANIZER;CN="Buffalo Niagara River Land Trust":MAILTO:https://www.bnrlandtrust.org/
END:VEVENT
BEGIN:VEVENT
DTSTART;TZID=America/New_York:20251203T190000
DTEND;TZID=America/New_York:20251203T203000
DTSTAMP:20260422T065028
CREATED:20251112T164627Z
LAST-MODIFIED:20251112T164747Z
UID:10000560-1764788400-1764793800@www.wnyprism.org
SUMMARY:Conservation Conversations - Best Native Plants for WNY Gardens
DESCRIPTION:Featuring Ken Parker\, CNLP\, the Native Plant Guy \nThe Buffalo Niagara River Land Trust (BNRLT) Speaker Series brings together the community and experts to explore how we can reclaim and restore Western New York’s waterfronts. \nThrough these conversations\, the BNRLT highlights their mission to clean\, protect\, and keep these places in trust—ensuring public access\, environmental health\, and community pride for generations to come. \nPlease register here.
URL:https://www.wnyprism.org/event/conservation-conversations-best-native-plants-for-wny-gardens/
LOCATION:Black Rock Harbor Center\, 52 Amherst Street\, Buffalo\, NY\, 14207
ORGANIZER;CN="Buffalo Niagara River Land Trust":MAILTO:https://www.bnrlandtrust.org/
END:VEVENT
END:VCALENDAR