BEGIN:VCALENDAR
VERSION:2.0
PRODID:-//WNY PRISM - ECPv6.15.12.2//NONSGML v1.0//EN
CALSCALE:GREGORIAN
METHOD:PUBLISH
X-ORIGINAL-URL:https://www.wnyprism.org
X-WR-CALDESC:Events for WNY PRISM
REFRESH-INTERVAL;VALUE=DURATION:PT1H
X-Robots-Tag:noindex
X-PUBLISHED-TTL:PT1H
BEGIN:VTIMEZONE
TZID:America/New_York
BEGIN:DAYLIGHT
TZOFFSETFROM:-0500
TZOFFSETTO:-0400
TZNAME:EDT
DTSTART:20230312T070000
END:DAYLIGHT
BEGIN:STANDARD
TZOFFSETFROM:-0400
TZOFFSETTO:-0500
TZNAME:EST
DTSTART:20231105T060000
END:STANDARD
BEGIN:DAYLIGHT
TZOFFSETFROM:-0500
TZOFFSETTO:-0400
TZNAME:EDT
DTSTART:20240310T070000
END:DAYLIGHT
BEGIN:STANDARD
TZOFFSETFROM:-0400
TZOFFSETTO:-0500
TZNAME:EST
DTSTART:20241103T060000
END:STANDARD
BEGIN:DAYLIGHT
TZOFFSETFROM:-0500
TZOFFSETTO:-0400
TZNAME:EDT
DTSTART:20250309T070000
END:DAYLIGHT
BEGIN:STANDARD
TZOFFSETFROM:-0400
TZOFFSETTO:-0500
TZNAME:EST
DTSTART:20251102T060000
END:STANDARD
BEGIN:DAYLIGHT
TZOFFSETFROM:-0500
TZOFFSETTO:-0400
TZNAME:EDT
DTSTART:20260308T070000
END:DAYLIGHT
BEGIN:STANDARD
TZOFFSETFROM:-0400
TZOFFSETTO:-0500
TZNAME:EST
DTSTART:20261101T060000
END:STANDARD
END:VTIMEZONE
BEGIN:VEVENT
DTSTART;TZID=America/New_York:20250913T100000
DTEND;TZID=America/New_York:20250913T140000
DTSTAMP:20260422T064349
CREATED:20250729T142812Z
LAST-MODIFIED:20250729T142812Z
UID:10000426-1757757600-1757772000@www.wnyprism.org
SUMMARY:Local Environmental Awareness Fair 
DESCRIPTION:This annual fair is sponsored by the Town of Boston Conservation Advisory Council and highlights the many organizations and resources available to our greater community that provide education\, services\, or products related to conservation\, wildlife\, agriculture\, the environment\, or the outdoors. There will be activities\, demonstrations and fun for the whole family! Stop by WNY PRISM’s table to learn about invasive species! Click here to learn more.
URL:https://www.wnyprism.org/event/local-environmental-awareness-fair/
LOCATION:Boston Town Park\, 8500 Boston State Road\, Boston\, New York\, 14025
END:VEVENT
BEGIN:VEVENT
DTSTART;TZID=America/New_York:20240914T100000
DTEND;TZID=America/New_York:20240914T140000
DTSTAMP:20260422T064349
CREATED:20240805T184620Z
LAST-MODIFIED:20240805T184620Z
UID:10000234-1726308000-1726322400@www.wnyprism.org
SUMMARY:2024 Local Environmental Awareness Fair
DESCRIPTION:This annual fair is sponsored by the Town of Boston Conservation Advisory Council and highlights the many organizations and resources available to our greater community that provide education\, services\, or products related to conservation\, wildlife\, agriculture\, the environment\, or the outdoors. There will be activities\, demonstrations and fun for the whole family!
URL:https://www.wnyprism.org/event/2024-local-environmental-awareness-fair/
LOCATION:Boston Town Park\, 8500 Boston State Road\, Boston\, New York\, 14025
END:VEVENT
END:VCALENDAR