BEGIN:VCALENDAR
VERSION:2.0
PRODID:-//WNY PRISM - ECPv6.15.12.2//NONSGML v1.0//EN
CALSCALE:GREGORIAN
METHOD:PUBLISH
X-ORIGINAL-URL:https://www.wnyprism.org
X-WR-CALDESC:Events for WNY PRISM
REFRESH-INTERVAL;VALUE=DURATION:PT1H
X-Robots-Tag:noindex
X-PUBLISHED-TTL:PT1H
BEGIN:VTIMEZONE
TZID:America/New_York
BEGIN:DAYLIGHT
TZOFFSETFROM:-0500
TZOFFSETTO:-0400
TZNAME:EDT
DTSTART:20230312T070000
END:DAYLIGHT
BEGIN:STANDARD
TZOFFSETFROM:-0400
TZOFFSETTO:-0500
TZNAME:EST
DTSTART:20231105T060000
END:STANDARD
BEGIN:DAYLIGHT
TZOFFSETFROM:-0500
TZOFFSETTO:-0400
TZNAME:EDT
DTSTART:20240310T070000
END:DAYLIGHT
BEGIN:STANDARD
TZOFFSETFROM:-0400
TZOFFSETTO:-0500
TZNAME:EST
DTSTART:20241103T060000
END:STANDARD
BEGIN:DAYLIGHT
TZOFFSETFROM:-0500
TZOFFSETTO:-0400
TZNAME:EDT
DTSTART:20250309T070000
END:DAYLIGHT
BEGIN:STANDARD
TZOFFSETFROM:-0400
TZOFFSETTO:-0500
TZNAME:EST
DTSTART:20251102T060000
END:STANDARD
BEGIN:DAYLIGHT
TZOFFSETFROM:-0500
TZOFFSETTO:-0400
TZNAME:EDT
DTSTART:20260308T070000
END:DAYLIGHT
BEGIN:STANDARD
TZOFFSETFROM:-0400
TZOFFSETTO:-0500
TZNAME:EST
DTSTART:20261101T060000
END:STANDARD
BEGIN:DAYLIGHT
TZOFFSETFROM:-0500
TZOFFSETTO:-0400
TZNAME:EDT
DTSTART:20270314T070000
END:DAYLIGHT
BEGIN:STANDARD
TZOFFSETFROM:-0400
TZOFFSETTO:-0500
TZNAME:EST
DTSTART:20271107T060000
END:STANDARD
END:VTIMEZONE
BEGIN:VEVENT
DTSTART;TZID=America/New_York:20260224T150000
DTEND;TZID=America/New_York:20260226T170000
DTSTAMP:20260422T051726
CREATED:20251222T204847Z
LAST-MODIFIED:20251222T205248Z
UID:10000628-1771945200-1772125200@www.wnyprism.org
SUMMARY:USDA Cooperative Research Forum on Invasive Species
DESCRIPTION:Hosted by NAISMA in partnership with USDA agencies\, this national forum will bring together researchers and invasive species professionals from across the country to strengthen collaboration and advance applied research on invasive species challenges. Building on the expanded focus of the Cooperative Research Forum\, the event will address a wide range of invasive insects\, diseases and weeds affecting forest and urban trees\, including the Asian longhorned beetle\, emerald ash borer\, hemlock woolly adelgid\, spotted lanternfly and others. \nThe forum features three days of: \n*      Research updates and knowledge exchange \n*      Cross‑sector and international collaboration \n*      Student and early‑career engagement \n*      Discussions on invasive insects\, pathogens and weeds impacting forests and urban landscapes \nLearn more and register here!
URL:https://www.wnyprism.org/event/usda-cooperative-research-forum-on-invasive-species/
LOCATION:Graduate Hotel\, 126 West Street\, Annapolis\, NY\, 21401\, United States
END:VEVENT
BEGIN:VEVENT
DTSTART;VALUE=DATE:20250414
DTEND;VALUE=DATE:20250418
DTSTAMP:20260422T051726
CREATED:20240724T163750Z
LAST-MODIFIED:20240809T171915Z
UID:10000231-1744588800-1744934399@www.wnyprism.org
SUMMARY:National Forum on Biological Control Conference
DESCRIPTION:The USDA Forest Service is organizing a National Forum for Biological Control in Natural Areas Conference in partnership with NAISMA and the National Association of State Foresters and will be held April 14-17\, 2025 in Annapolis\, MD at the Graduate Hotel. The meeting will focus on both weed and arthropod biocontrol and will be a venue for all biocontrol practitioners\, researchers\, and policy makers to come together to address the shared challenges (i.e.\, communication\, capacity\, changing landscapes) and opportunities that exist in this area. The meeting themes are centered around biocontrol research\, management\, and impacts in natural areas. Click here to learn more and register. 
URL:https://www.wnyprism.org/event/national-forum-on-biological-control-conference/
LOCATION:Graduate Hotel\, 126 West Street\, Annapolis\, NY\, 21401\, United States
END:VEVENT
BEGIN:VEVENT
DTSTART;TZID=America/New_York:20240311T090000
DTEND;TZID=America/New_York:20240314T180000
DTSTAMP:20260422T051726
CREATED:20231207T171130Z
LAST-MODIFIED:20231207T171130Z
UID:10000179-1710147600-1710439200@www.wnyprism.org
SUMMARY:2024 National Forum on Biological Control
DESCRIPTION:The USDA Forest Service is organizing a National Forum on Biological Control in partnership with NAISMA and the National Association of State Foresters. The meeting will focus on both weed and arthropod biocontrol and will be a venue for all biocontrol practitioners\, researchers\, and policy makers to come together to address the shared challenges (Ex.\, communication\, capacity\, changing landscapes) and opportunities that exist in this area. The meeting themes are centered around biocontrol research\, management\, and impacts in natural areas. \nKeynote Speakers:\nDr. Mark Hoddle\nStas Burgiel \nCall for Posters:\nAbstracts for the conference are due January 9th by 11:59 p.m. Eastern time. Poster Guidelines \nMeet & Greet Cocktail hour will occur on Monday\, March 11. The main conference program starts Tuesday\, March 12 and concludes at 4:30 p.m. on Thursday\, March 14. \nRegistration Rates\nEarly Bird Registration (through January 15\, 2024)  \nProfessional Full Conference –  $375\nNAISMA members $350\nStudent Full Conference –  $225 \nLate Registration (starts January 16\, 2024)\nProfessional Full Conference – $450\nNAISMA members $425\nStudent Full – $275 \nLearn more and register here.
URL:https://www.wnyprism.org/event/2024-national-forum-on-biological-control/
LOCATION:Graduate Hotel\, 126 West Street\, Annapolis\, NY\, 21401\, United States
END:VEVENT
END:VCALENDAR