BEGIN:VCALENDAR
VERSION:2.0
PRODID:-//WNY PRISM - ECPv6.15.12.2//NONSGML v1.0//EN
CALSCALE:GREGORIAN
METHOD:PUBLISH
X-ORIGINAL-URL:https://www.wnyprism.org
X-WR-CALDESC:Events for WNY PRISM
REFRESH-INTERVAL;VALUE=DURATION:PT1H
X-Robots-Tag:noindex
X-PUBLISHED-TTL:PT1H
BEGIN:VTIMEZONE
TZID:America/New_York
BEGIN:DAYLIGHT
TZOFFSETFROM:-0500
TZOFFSETTO:-0400
TZNAME:EDT
DTSTART:20230312T070000
END:DAYLIGHT
BEGIN:STANDARD
TZOFFSETFROM:-0400
TZOFFSETTO:-0500
TZNAME:EST
DTSTART:20231105T060000
END:STANDARD
BEGIN:DAYLIGHT
TZOFFSETFROM:-0500
TZOFFSETTO:-0400
TZNAME:EDT
DTSTART:20240310T070000
END:DAYLIGHT
BEGIN:STANDARD
TZOFFSETFROM:-0400
TZOFFSETTO:-0500
TZNAME:EST
DTSTART:20241103T060000
END:STANDARD
BEGIN:DAYLIGHT
TZOFFSETFROM:-0500
TZOFFSETTO:-0400
TZNAME:EDT
DTSTART:20250309T070000
END:DAYLIGHT
BEGIN:STANDARD
TZOFFSETFROM:-0400
TZOFFSETTO:-0500
TZNAME:EST
DTSTART:20251102T060000
END:STANDARD
BEGIN:DAYLIGHT
TZOFFSETFROM:-0500
TZOFFSETTO:-0400
TZNAME:EDT
DTSTART:20260308T070000
END:DAYLIGHT
BEGIN:STANDARD
TZOFFSETFROM:-0400
TZOFFSETTO:-0500
TZNAME:EST
DTSTART:20261101T060000
END:STANDARD
END:VTIMEZONE
BEGIN:VEVENT
DTSTART;TZID=America/New_York:20250612T100000
DTEND;TZID=America/New_York:20250612T120000
DTSTAMP:20260422T065849
CREATED:20250414T190736Z
LAST-MODIFIED:20250414T190911Z
UID:10000341-1749722400-1749729600@www.wnyprism.org
SUMMARY:Terrestrial Management Workshop: Invasive Trees & Shrubs
DESCRIPTION:Join WNY PRISM for a workshop on how to manage some of our most common invasive tree and shrub species! \nLearn how to manage some common invasive species that may be present on your property. We’ll talk about Best Management Practices for invasive trees and shrubs including tree of heaven\, buckthorn and honeysuckle. We’ll review manual\, mechanical and chemical methods with a focus on specific treatment techniques including foliar treatment\, cut stump and basal bark. We’ll have an opportunity to see equipment used for management during the outdoor portion. We will also discuss management planning and prioritization\, and we’ll review some native tree and shrub alternatives to plant after invasive species removal. \nThis workshop will offer the following NYS pesticide credits: 2 credits in categories 2 and 3a and 1.5 credits in category 6a. To receive credits\, you must register at least 24 hours before the workshop\, show up at least 15 minutes early (by 9:45 AM) to sign in\, bring your applicators license and attend the entire workshop. \nPlease register at: https://bit.ly/TerrestrialWorkshop2025. For questions\, email wnyprism@buffalostate.edu or call (716) 878-4708.
URL:https://www.wnyprism.org/event/terrestrial-management-workshop-invasive-trees-shrubs/
LOCATION:Iroquois National Wildlife Refuge\, 1101 Casey Road\, Basom\, NY\, 14013\, United States
ORGANIZER;CN="WNY PRISM":MAILTO:wnyprism@buffalostate.edu
END:VEVENT
BEGIN:VEVENT
DTSTART;TZID=America/New_York:20250417T093000
DTEND;TZID=America/New_York:20250417T120000
DTSTAMP:20260422T065849
CREATED:20250207T210238Z
LAST-MODIFIED:20250320T185727Z
UID:10000322-1744882200-1744891200@www.wnyprism.org
SUMMARY:Spring Partner Meeting
DESCRIPTION:This year’s Spring Partner Meeting will be held at Iroquois National Wildlife Refuge! Click here to learn more and register!
URL:https://www.wnyprism.org/event/spring-partner-meeting-2/
LOCATION:Iroquois National Wildlife Refuge\, 1101 Casey Road\, Basom\, NY\, 14013\, United States
ORGANIZER;CN="WNY PRISM":MAILTO:wnyprism@buffalostate.edu
END:VEVENT
BEGIN:VEVENT
DTSTART;TZID=America/New_York:20240511T100000
DTEND;TZID=America/New_York:20240511T150000
DTSTAMP:20260422T065849
CREATED:20240325T200147Z
LAST-MODIFIED:20240325T200340Z
UID:10000209-1715421600-1715439600@www.wnyprism.org
SUMMARY:Spring Spectacular
DESCRIPTION:Join us for a day of nature\, creativity\, and community at the Spring Spectacular (formerly called Spring into Nature). Immerse yourself in the beauty of Iroquois National Wildlife Refuge as you observe a diverse array of wildlife\, participate in fun crafts and educational activities\, and connect with various community organizations dedicated to conservation\, artistic expression\, and cultural enrichment. \nWhether you’re a nature enthusiast\, an art lover\, or simply looking for a fun-filled day with family and friends\, the Spring Spectacular promises something for everyone to enjoy. While you’re here you can also enjoy what the rest of the wildlife refuge has to offer as well as visit the neighboring Oak Orchard and Tonawanda Wildlife Management Areas and appreciate the importance of the whole landscape coming together to provide vital habitat for wildlife that live and pass through Western New York. This event is being held thanks to the Friends of Iroquois National Wildlife Refuge\, the U.S. Fish and Wildlife Service and the NYS Department of Environmental Conservation. \nFind out more information about this event at https://www.fws.gov/event/spring-spectacular!
URL:https://www.wnyprism.org/event/spring-spectacular/
LOCATION:Iroquois National Wildlife Refuge\, 1101 Casey Road\, Basom\, NY\, 14013\, United States
END:VEVENT
END:VCALENDAR