BEGIN:VCALENDAR
VERSION:2.0
PRODID:-//WNY PRISM - ECPv6.15.12.2//NONSGML v1.0//EN
CALSCALE:GREGORIAN
METHOD:PUBLISH
X-ORIGINAL-URL:https://www.wnyprism.org
X-WR-CALDESC:Events for WNY PRISM
REFRESH-INTERVAL;VALUE=DURATION:PT1H
X-Robots-Tag:noindex
X-PUBLISHED-TTL:PT1H
BEGIN:VTIMEZONE
TZID:America/New_York
BEGIN:DAYLIGHT
TZOFFSETFROM:-0500
TZOFFSETTO:-0400
TZNAME:EDT
DTSTART:20240310T070000
END:DAYLIGHT
BEGIN:STANDARD
TZOFFSETFROM:-0400
TZOFFSETTO:-0500
TZNAME:EST
DTSTART:20241103T060000
END:STANDARD
BEGIN:DAYLIGHT
TZOFFSETFROM:-0500
TZOFFSETTO:-0400
TZNAME:EDT
DTSTART:20250309T070000
END:DAYLIGHT
BEGIN:STANDARD
TZOFFSETFROM:-0400
TZOFFSETTO:-0500
TZNAME:EST
DTSTART:20251102T060000
END:STANDARD
BEGIN:DAYLIGHT
TZOFFSETFROM:-0500
TZOFFSETTO:-0400
TZNAME:EDT
DTSTART:20260308T070000
END:DAYLIGHT
BEGIN:STANDARD
TZOFFSETFROM:-0400
TZOFFSETTO:-0500
TZNAME:EST
DTSTART:20261101T060000
END:STANDARD
END:VTIMEZONE
BEGIN:VEVENT
DTSTART;TZID=America/New_York:20251027T130000
DTEND;TZID=America/New_York:20251027T150000
DTSTAMP:20260421T061440
CREATED:20251006T125105Z
LAST-MODIFIED:20251006T125612Z
UID:10000435-1761570000-1761577200@www.wnyprism.org
SUMMARY:Lake Erie Sub-Basin Work Group Meeting
DESCRIPTION:The Lake Erie Sub-Basin Work Group meeting will provide opportunities to hear sub-basin progress updates from NYSDEC and work group partners\, learn about updates on the sub-basin work plans\, network with work group members\, and discuss upcoming funding and work group collaboration opportunities. Learn more and register here.
URL:https://www.wnyprism.org/event/lake-erie-sub-basin-work-group-meeting/
LOCATION:Reservoir State Park\, 5777 Witmer\, Niagara Falls\, NY\, 14304
END:VEVENT
END:VCALENDAR